BEGIN:VCALENDAR
VERSION:2.0
CALSCALE:GREGORIAN
METHOD:PUBLISH
X-WR-TIMEZONE:Australia/Sydney
BEGIN:VTIMEZONE
TZID:Australia/Sydney
BEGIN:STANDARD
TZNAME:AEST
END:STANDARD
END:VTIMEZONE
BEGIN:VEVENT
DTSTART;TZID=Australia/Sydney:20180207T090000
DTEND;TZID=Australia/Sydney:20180207T153000
RRULE:FREQ=WEEKLY;UNTIL=20180228T153000;BYDAY=WE
DTSTAMP:20260425T034649
UID:171
SUMMARY:No Prep Students today
DESCRIPTION:Prep students will have Wednesday&#039;s off during February and are not required at school.
SEQUENCE:0
STATUS:CONFIRMED
TRANSP:OPAQUE
END:VEVENT
END:VCALENDAR